BEGIN:VCALENDAR
VERSION:2.0
PRODID:-//Løjtehus
CALSCALE:GREGORIAN
METHOD:PUBLISH
X-WR-CALNAME:Løjtehus
X-ORIGINAL-URL:https://www.lojtehus.dk/produkt/paaskefrokost-2022/
X-WR-CALDESC:Påskefrokost 2022
BEGIN:VEVENT
DTSTART:20220414T130000
DTEND:20220418T180000
SUMMARY:Påskefrokost 2022
DESCRIPTION:Så er tiden inde til at man igen kan værne om traditionerne på Løjtehus. Og hvad er ikke mere hyggeligt end at samle familie og venner til Påskefrokost.

Vælg imellem: <span style="color: #ff0000;"><strong>Skærtorsdag d. 14. april</strong></span>, <span style="color: #339966;">Langfredag d. 15. april</span>, <span style="color: #ff00ff;">Påskedag d. 17 april</span> <span style="color: #ff0000;"><strong>UDSOLGT</strong> </span>eller <span style="color: #00ccff;">2. Påskedag d. 18. april</span>

Børn op til 12 år lig med halv pris. Børn i barnestol er gratis, blot husk at anmode om en barnestol i bemærkninger ved bestilling. Da der er rift om vores barnestole, så er det tilladt at selv medbringe en, blot man meddeler det ved bestilling, så vi kan gøre plads til den ved bordet.
LOCATION:
END:VEVENT
END:VCALENDAR
