BEGIN:VCALENDAR
VERSION:2.0
PRODID:-//Løjtehus
CALSCALE:GREGORIAN
METHOD:PUBLISH
X-WR-CALNAME:Løjtehus
X-ORIGINAL-URL:https://www.lojtehus.dk/produkt/pinsefrokost2022/
X-WR-CALDESC:Pinsefrokost 5. Juni
BEGIN:VEVENT
DTSTART:20220605T130000
DTEND:20220605T180000
SUMMARY:Pinsefrokost 5. Juni
DESCRIPTION:Pinsen er Helligåndens kommen ifølge kristendommen. Men det er også anledning til at samle familie og venner til en hyggelig komsammen. Traditionernes tro så serverer vi vores populære Pinsebuffet. Og hvis guderne tillader det, så er der mulighed for at nyde den på vores hyggelige sommerterrasse. Men skynd dig, der bliver rift om parasollerne. Børn op til 12 år er selvfølgelig halv pris.
LOCATION:
END:VEVENT
END:VCALENDAR
