BEGIN:VCALENDAR
VERSION:2.0
PRODID:-//Løjtehus
CALSCALE:GREGORIAN
METHOD:PUBLISH
X-WR-CALNAME:Løjtehus
X-ORIGINAL-URL:https://www.lojtehus.dk/produkt/soendags-julebuffet-2022/
X-WR-CALDESC:Søndags Julebuffet 2022
BEGIN:VEVENT
DTSTART:20221120T010000
DTEND:20221218T010000
SUMMARY:Søndags Julebuffet 2022
DESCRIPTION:Traditionen tro, så er der ikke noget mere hyggeligt end at samle venner &amp; familie til en jule-kom-sammen. Hver i søndag i julen danner vi rammerne med vores lækre julebuffet, hvor der er et stort udvalg af julens lækkere og noget for en hver smag.

Bestil allerede nu!! Børn op til 12 år er lig med halv pris.
LOCATION:
END:VEVENT
END:VCALENDAR
